BEGIN:VCALENDAR
VERSION:2.0
PRODID:-//Bittondi Printmakers - ECPv4.5.8//NONSGML v1.0//EN
CALSCALE:GREGORIAN
METHOD:PUBLISH
X-WR-CALNAME:Bittondi Printmakers
X-ORIGINAL-URL:http://www.bittondiprints.com.au
X-WR-CALDESC:Events for Bittondi Printmakers
BEGIN:VEVENT
DTSTART;TZID=UTC+9.5:20181006T100000
DTEND;TZID=UTC+9.5:20181006T160000
DTSTAMP:20190228T094339
CREATED:20180628T110453Z
LAST-MODIFIED:20180628T110453Z
UID:4378-1538820000-1538841600@www.bittondiprints.com.au
SUMMARY:Artists Book Workshop  presented by Mary Pulford
DESCRIPTION:This workshop will introduce participants to some basic book binding techniques\, by creating mini books. Each participant will create folded book structures including x books and ox plough. Fold and glue structures including flip-flip and guest books. Lastly\, more complex book structures including accordion with hard cover and a stitched Japanese binding. Those that have previously attended the linocutting or other printmaking workshops may like to bind selected prints into their own Artists book. \nCost: $85 for Bittondi members and $105 for non-members. For non-members this fee includes a 1 year associate membership for Bittondi Printmakers Association Inc. Maximum of 8 participants. \n  \nWhat to bring: Any prints from previous workshops\, including the ‘not quite good enough ones’\, lunch (there are shops next to the studio). All other materials and tea/coffee are provided. \nRSVP: To confirm your attendance\, please contact Mary at maryp_artist@yahoo.com.au or phone 0414361817 prior to 1st October 2018. \n
URL:http://www.bittondiprints.com.au/event/artists-book-workshop-presented-by-mary-pulford/
LOCATION:Aberfoyle High School Campus ( next to Aberfoyle Hub Shops) \, Aberfoyle Park\, South Australia\, Australia
CATEGORIES:Workshops
ATTACH;FMTTYPE=image/jpeg:http://www.bittondiprints.com.au/wp-content/uploads/2018/06/Artists-Book-Workshop.jpg
END:VEVENT
END:VCALENDAR